BEGIN:VCALENDAR
VERSION:2.0
PRODID:spatie/icalendar-generator
DESCRIPTION:Veranstaltungen von Motorsägenkurse – DANIEL STARK
X-WR-CALDESC:Veranstaltungen von Motorsägenkurse – DANIEL STARK
REFRESH-INTERVAL;VALUE=DURATION:PT1440M
X-PUBLISHED-TTL:PT1440M
BEGIN:VTIMEZONE
TZID:Europe/Berlin
BEGIN:DAYLIGHT
DTSTART:20250330T020000Z
TZOFFSETFROM:+0100
TZOFFSETTO:+0200
END:DAYLIGHT
BEGIN:STANDARD
DTSTART:20251026T030000Z
TZOFFSETFROM:+0200
TZOFFSETTO:+0100
END:STANDARD
BEGIN:DAYLIGHT
DTSTART:20260329T020000Z
TZOFFSETFROM:+0100
TZOFFSETTO:+0200
END:DAYLIGHT
END:VTIMEZONE
BEGIN:VTIMEZONE
TZID:UTC
BEGIN:STANDARD
DTSTART:20250727T083615Z
TZOFFSETFROM:+0000
TZOFFSETTO:+0000
END:STANDARD
END:VTIMEZONE
BEGIN:VEVENT
UID:38-35
DTSTAMP:20260423T083615Z
SUMMARY:Motorsägen-Grundlehrgang (Modul A DGUV-I 214-059)
LOCATION:Münsingen   Münsingen  72525
ORGANIZER;CN=danielstark:MAILTO:d.stark@daniel-stark.de
DTSTART;TZID=Europe/Berlin:20251004T080000
DTEND;TZID=Europe/Berlin:20251004T170000
X-ALT-DESC;FMTTYPE=TEXT/HTML:
CATEGORIES:General,  Motorsägen-Grundlehrgang
URL;VALUE=URI:https://motorsaegenkurs.daniel-stark.de/mc-events/motorsaegen
 -grundlehrgang-modul-a-dguv-i-214-059-21/?mc_id=38
END:VEVENT
END:VCALENDAR